BEGIN:VCALENDAR
VERSION:2.0
PRODID:-//hacksw/handcal//NONSGML v1.0//EN
BEGIN:VEVENT
DTSTART:20200116T180000
DTEND:20200116T230500
LOCATION:La rotonde
ORGANIZER;CN=Marion Vidal:MAILTO:
SUMMARY:Afterwork ALUMNI
DESCRIPTION:
URL:https://www.esam-alumni.com/fr/event/afterwork-alumni/2020/01/16/70
BEGIN:VALARM
TRIGGER:-P0DT1H0M0S
ACTION:DISPLAY
END:VALARM
END:VEVENT
END:VCALENDAR