BEGIN:VCALENDAR
VERSION:2.0
PRODID:-//hacksw/handcal//NONSGML v1.0//EN
BEGIN:VEVENT
DTSTART:20180524T090000
DTEND:20180524T180000
LOCATION:Campus Parodi \n12, Rue Alexandre Parodi \n75010 PARIS
ORGANIZER;CN=Marion Vidal:MAILTO:
SUMMARY:Forum Alternance - Job Dating Groupe IGS - Paris
DESCRIPTION:\nPour consulter la version en ligne, cliquez ici \n  \n  INVITATIONJOBDATINGJEUDI 24 MAI 2018INSCRIPTION AVANT LE 24 AVRIL 2018  \nVENEZ RECRUTERVOS FUTURS ALTERNANTSSUR NOTRE CAMPUS !  PROGRAMME8:30...
URL:https://www.esam-alumni.com/fr/event/forum-alternance-job-dating-groupe-igs-paris/2018/05/24/22
BEGIN:VALARM
TRIGGER:-P0DT1H0M0S
ACTION:DISPLAY
END:VALARM
END:VEVENT
END:VCALENDAR