BEGIN:VCALENDAR
VERSION:2.0
PRODID:-//hacksw/handcal//NONSGML v1.0//EN
BEGIN:VEVENT
DTSTART:20180514T083000
DTEND:20180514T173000
LOCATION:Campus Parodi \n12, Rue Alexandre Parodi \n75010 PARIS
ORGANIZER;CN=Marion Vidal:MAILTO:
SUMMARY:Trial Game
DESCRIPTION:Quand les étudiantes en 5ème année Juriste d’affaires expérimentent les rouages d’un procès en droit des affaires.\nLe lundi 14 mai dernier se déroulera le 2ème édition  du Trial Game à l’école ESAM. ...
URL:https://www.esam-alumni.com/fr/event/trial-game/2018/05/14/18
BEGIN:VALARM
TRIGGER:-P0DT1H0M0S
ACTION:DISPLAY
END:VALARM
END:VEVENT
END:VCALENDAR